Package: ternarynet Version: 1.51.0 Command: /Library/Frameworks/R.framework/Resources/bin/R CMD INSTALL ternarynet StartedAt: 2025-02-09 15:13:42 -0500 (Sun, 09 Feb 2025) EndedAt: 2025-02-09 15:13:46 -0500 (Sun, 09 Feb 2025) EllapsedTime: 4.1 seconds RetCode: 1 Status: ERROR