Package: ternarynet Version: 1.51.0 Command: chmod a+r ternarynet -R && E:\biocbuild\bbs-3.21-bioc\R\bin\R.exe CMD build --keep-empty-dirs --no-resave-data ternarynet StartedAt: 2025-02-09 22:04:00 -0500 (Sun, 09 Feb 2025) EndedAt: 2025-02-09 22:04:10 -0500 (Sun, 09 Feb 2025) EllapsedTime: 9.8 seconds RetCode: 1 Status: ERROR PackageFile: None PackageFileSize: NA