Package: ternarynet Version: 1.51.0 Command: E:\biocbuild\bbs-3.21-bioc\R\bin\R.exe CMD check --no-multiarch --install=check:ternarynet.install-out.txt --library=E:\biocbuild\bbs-3.21-bioc\R\library --no-vignettes --timings ternarynet_1.51.0.tar.gz StartedAt: 2025-01-22 06:09:00 -0500 (Wed, 22 Jan 2025) EndedAt: 2025-01-22 06:10:37 -0500 (Wed, 22 Jan 2025) EllapsedTime: 96.8 seconds RetCode: 0 Status: OK CheckDir: ternarynet.Rcheck Warnings: 0