Package: ternarynet Version: 1.51.0 Command: E:\biocbuild\bbs-3.21-bioc\R\bin\R.exe CMD INSTALL ternarynet StartedAt: 2025-02-03 15:49:08 -0500 (Mon, 03 Feb 2025) EndedAt: 2025-02-03 15:50:47 -0500 (Mon, 03 Feb 2025) EllapsedTime: 98.7 seconds RetCode: 1 Status: ERROR