Package: terraTCGAdata Version: 1.11.0 Maintainer: Marcel Ramos MaintainerEmail: marcel.ramos at sph.cuny.edu git_url: https://git.bioconductor.org/packages/terraTCGAdata git_branch: devel git_last_commit: 3e21167 git_last_commit_date: 2024-10-29 11:10:49 -0500 (Tue, 29 Oct 2024)