Package: terraTCGAdata Version: 1.11.0 Command: rm -rf terraTCGAdata.buildbin-libdir && mkdir terraTCGAdata.buildbin-libdir && /Users/biocbuild/BBS/utils/build-universal.sh terraTCGAdata_1.11.0.tar.gz /Library/Frameworks/R.framework/Resources/bin/R terraTCGAdata.buildbin-libdir StartedAt: 2025-02-09 22:33:18 -0500 (Sun, 09 Feb 2025) EndedAt: 2025-02-09 22:33:29 -0500 (Sun, 09 Feb 2025) EllapsedTime: 11.2 seconds RetCode: 0 Status: OK PackageFile: terraTCGAdata_1.11.0.tgz PackageFileSize: 273.8 KiB