Package: terraTCGAdata Version: 1.11.0 Command: /Library/Frameworks/R.framework/Resources/bin/R CMD check --install=check:terraTCGAdata.install-out.txt --library=/Library/Frameworks/R.framework/Resources/library --no-vignettes --timings terraTCGAdata_1.11.0.tar.gz StartedAt: 2025-02-09 21:43:16 -0500 (Sun, 09 Feb 2025) EndedAt: 2025-02-09 21:44:28 -0500 (Sun, 09 Feb 2025) EllapsedTime: 71.9 seconds RetCode: 0 Status: OK CheckDir: terraTCGAdata.Rcheck Warnings: 0