Package: terraTCGAdata Version: 1.11.0 Command: /Library/Frameworks/R.framework/Resources/bin/R CMD INSTALL terraTCGAdata StartedAt: 2025-02-09 15:15:28 -0500 (Sun, 09 Feb 2025) EndedAt: 2025-02-09 15:15:38 -0500 (Sun, 09 Feb 2025) EllapsedTime: 9.9 seconds RetCode: 0 Status: OK