Package: terraTCGAdata Version: 1.11.0 Command: /home/biocbuild/R/R/bin/R CMD check --install=check:terraTCGAdata.install-out.txt --library=/home/biocbuild/R/R/site-library --no-vignettes --timings terraTCGAdata_1.11.0.tar.gz StartedAt: 2025-01-28 16:04:20 -0000 (Tue, 28 Jan 2025) EndedAt: 2025-01-28 16:08:21 -0000 (Tue, 28 Jan 2025) EllapsedTime: 241.4 seconds RetCode: 0 Status: OK CheckDir: terraTCGAdata.Rcheck Warnings: 0