Package: terraTCGAdata Version: 1.11.0 Command: /Library/Frameworks/R.framework/Resources/bin/R CMD build --keep-empty-dirs --no-resave-data terraTCGAdata StartedAt: 2025-02-03 18:37:34 -0500 (Mon, 03 Feb 2025) EndedAt: 2025-02-03 18:38:12 -0500 (Mon, 03 Feb 2025) EllapsedTime: 37.7 seconds RetCode: 0 Status: OK PackageFile: terraTCGAdata_1.11.0.tar.gz PackageFileSize: 234.1 KiB