Package: terraTCGAdata Version: 1.11.0 Command: /Library/Frameworks/R.framework/Resources/bin/R CMD check --install=check:terraTCGAdata.install-out.txt --library=/Library/Frameworks/R.framework/Resources/library --no-vignettes --timings terraTCGAdata_1.11.0.tar.gz StartedAt: 2025-02-03 23:46:42 -0500 (Mon, 03 Feb 2025) EndedAt: 2025-02-03 23:49:58 -0500 (Mon, 03 Feb 2025) EllapsedTime: 196.3 seconds RetCode: 0 Status: OK CheckDir: terraTCGAdata.Rcheck Warnings: 0