Package: terraTCGAdata Version: 1.11.0 Command: /home/biocbuild/bbs-3.21-bioc/R/bin/R CMD check --install=check:terraTCGAdata.install-out.txt --library=/home/biocbuild/bbs-3.21-bioc/R/site-library --timings terraTCGAdata_1.11.0.tar.gz StartedAt: 2025-02-10 03:18:15 -0500 (Mon, 10 Feb 2025) EndedAt: 2025-02-10 03:21:29 -0500 (Mon, 10 Feb 2025) EllapsedTime: 194.2 seconds RetCode: 0 Status: OK CheckDir: terraTCGAdata.Rcheck Warnings: 0