Package: terraTCGAdata Version: 1.11.0 Command: rm -rf terraTCGAdata.buildbin-libdir && mkdir terraTCGAdata.buildbin-libdir && E:\biocbuild\bbs-3.21-bioc\R\bin\R.exe CMD INSTALL --build --library=terraTCGAdata.buildbin-libdir terraTCGAdata_1.11.0.tar.gz StartedAt: 2025-02-04 09:04:52 -0500 (Tue, 04 Feb 2025) EndedAt: 2025-02-04 09:05:27 -0500 (Tue, 04 Feb 2025) EllapsedTime: 35.1 seconds RetCode: 0 Status: OK PackageFile: terraTCGAdata_1.11.0.zip PackageFileSize: 278.1 KiB