Package: terraTCGAdata Version: 1.11.0 Command: E:\biocbuild\bbs-3.21-bioc\R\bin\R.exe CMD check --no-multiarch --install=check:terraTCGAdata.install-out.txt --library=E:\biocbuild\bbs-3.21-bioc\R\library --no-vignettes --timings terraTCGAdata_1.11.0.tar.gz StartedAt: 2025-02-10 06:07:43 -0500 (Mon, 10 Feb 2025) EndedAt: 2025-02-10 06:11:27 -0500 (Mon, 10 Feb 2025) EllapsedTime: 224.2 seconds RetCode: 0 Status: OK CheckDir: terraTCGAdata.Rcheck Warnings: 0