Package: terraTCGAdata Version: 1.11.0 Command: E:\biocbuild\bbs-3.21-bioc\R\bin\R.exe CMD INSTALL terraTCGAdata StartedAt: 2025-02-09 16:30:02 -0500 (Sun, 09 Feb 2025) EndedAt: 2025-02-09 16:30:39 -0500 (Sun, 09 Feb 2025) EllapsedTime: 36.8 seconds RetCode: 0 Status: OK