Package: tidyCoverage Version: 1.3.0 Command: /Library/Frameworks/R.framework/Resources/bin/R CMD check --install=check:tidyCoverage.install-out.txt --library=/Library/Frameworks/R.framework/Resources/library --no-vignettes --timings tidyCoverage_1.3.0.tar.gz StartedAt: 2025-02-04 21:45:57 -0500 (Tue, 04 Feb 2025) EndedAt: 2025-02-04 21:47:56 -0500 (Tue, 04 Feb 2025) EllapsedTime: 119.4 seconds RetCode: 0 Status: OK CheckDir: tidyCoverage.Rcheck Warnings: 0