Package: tidyCoverage Version: 1.3.0 Command: /Library/Frameworks/R.framework/Resources/bin/R CMD INSTALL tidyCoverage StartedAt: 2025-02-04 15:08:48 -0500 (Tue, 04 Feb 2025) EndedAt: 2025-02-04 15:09:02 -0500 (Tue, 04 Feb 2025) EllapsedTime: 13.5 seconds RetCode: 0 Status: OK