Package: tidyCoverage Version: 1.3.0 Command: /home/biocbuild/R/R/bin/R CMD build --keep-empty-dirs --no-resave-data tidyCoverage StartedAt: 2025-01-28 02:54:17 -0000 (Tue, 28 Jan 2025) EndedAt: 2025-01-28 02:58:51 -0000 (Tue, 28 Jan 2025) EllapsedTime: 274.1 seconds RetCode: 0 Status: OK PackageFile: tidyCoverage_1.3.0.tar.gz PackageFileSize: 3.794 MiB