Package: tidyCoverage Version: 1.3.0 Command: /home/biocbuild/R/R/bin/R CMD INSTALL tidyCoverage StartedAt: 2025-01-29 19:49:25 -0000 (Wed, 29 Jan 2025) EndedAt: 2025-01-29 19:50:13 -0000 (Wed, 29 Jan 2025) EllapsedTime: 48.0 seconds RetCode: 0 Status: OK