Package: tidyCoverage Version: 1.3.0 Command: rm -rf tidyCoverage.buildbin-libdir && mkdir tidyCoverage.buildbin-libdir && /Users/biocbuild/BBS/utils/build-universal.sh tidyCoverage_1.3.0.tar.gz /Library/Frameworks/R.framework/Resources/bin/R tidyCoverage.buildbin-libdir StartedAt: 2025-02-10 01:20:19 -0500 (Mon, 10 Feb 2025) EndedAt: 2025-02-10 01:21:10 -0500 (Mon, 10 Feb 2025) EllapsedTime: 50.9 seconds RetCode: 0 Status: OK PackageFile: tidyCoverage_1.3.0.tgz PackageFileSize: 4.209 MiB