Package: tidyCoverage Version: 1.3.0 Command: /Library/Frameworks/R.framework/Resources/bin/R CMD build --keep-empty-dirs --no-resave-data tidyCoverage StartedAt: 2025-02-03 18:37:59 -0500 (Mon, 03 Feb 2025) EndedAt: 2025-02-03 18:41:13 -0500 (Mon, 03 Feb 2025) EllapsedTime: 194.1 seconds RetCode: 0 Status: OK PackageFile: tidyCoverage_1.3.0.tar.gz PackageFileSize: 3.896 MiB