Package: tidyCoverage Version: 1.3.0 Command: /Library/Frameworks/R.framework/Resources/bin/R CMD INSTALL tidyCoverage StartedAt: 2025-02-09 15:17:30 -0500 (Sun, 09 Feb 2025) EndedAt: 2025-02-09 15:18:19 -0500 (Sun, 09 Feb 2025) EllapsedTime: 49.5 seconds RetCode: 0 Status: OK