Package: tidyCoverage Version: 1.3.0 Command: /home/biocbuild/bbs-3.21-bioc/R/bin/R CMD INSTALL tidyCoverage StartedAt: 2025-02-03 15:35:12 -0500 (Mon, 03 Feb 2025) EndedAt: 2025-02-03 15:35:46 -0500 (Mon, 03 Feb 2025) EllapsedTime: 33.7 seconds RetCode: 0 Status: OK