Package: tidyCoverage Version: 1.3.0 Command: E:\biocbuild\bbs-3.21-bioc\R\bin\R.exe CMD INSTALL tidyCoverage StartedAt: 2025-02-04 15:54:19 -0500 (Tue, 04 Feb 2025) EndedAt: 2025-02-04 15:55:25 -0500 (Tue, 04 Feb 2025) EllapsedTime: 66.3 seconds RetCode: 0 Status: OK