Package: tidyFlowCore Version: 1.1.0 Maintainer: Timothy Keyes MaintainerEmail: tkeyes at stanford.edu git_url: https://git.bioconductor.org/packages/tidyFlowCore git_branch: devel git_last_commit: a9a0990 git_last_commit_date: 2024-10-29 11:31:23 -0500 (Tue, 29 Oct 2024)