Package: tidyFlowCore Version: 1.1.0 Command: rm -rf tidyFlowCore.buildbin-libdir && mkdir tidyFlowCore.buildbin-libdir && /Users/biocbuild/BBS/utils/build-universal.sh tidyFlowCore_1.1.0.tar.gz /Library/Frameworks/R.framework/Resources/bin/R tidyFlowCore.buildbin-libdir StartedAt: 2025-02-12 22:38:34 -0500 (Wed, 12 Feb 2025) EndedAt: 2025-02-12 22:38:39 -0500 (Wed, 12 Feb 2025) EllapsedTime: 5.1 seconds RetCode: 0 Status: OK PackageFile: tidyFlowCore_1.1.0.tgz PackageFileSize: 924.2 KiB