Package: tidyFlowCore Version: 1.1.0 Command: /Library/Frameworks/R.framework/Resources/bin/R CMD build --keep-empty-dirs --no-resave-data tidyFlowCore StartedAt: 2025-02-12 17:49:14 -0500 (Wed, 12 Feb 2025) EndedAt: 2025-02-12 17:49:37 -0500 (Wed, 12 Feb 2025) EllapsedTime: 23.3 seconds RetCode: 0 Status: OK PackageFile: tidyFlowCore_1.1.0.tar.gz PackageFileSize: 780.2 KiB