Package: tidyFlowCore Version: 1.1.0 Command: /Library/Frameworks/R.framework/Resources/bin/R CMD INSTALL tidyFlowCore StartedAt: 2025-02-09 15:06:51 -0500 (Sun, 09 Feb 2025) EndedAt: 2025-02-09 15:06:55 -0500 (Sun, 09 Feb 2025) EllapsedTime: 3.6 seconds RetCode: 0 Status: OK