Package: tidyFlowCore Version: 1.1.0 Command: rm -rf tidyFlowCore.buildbin-libdir && mkdir tidyFlowCore.buildbin-libdir && /Users/biocbuild/BBS/utils/build-universal.sh tidyFlowCore_1.1.0.tar.gz /Library/Frameworks/R.framework/Resources/bin/R tidyFlowCore.buildbin-libdir StartedAt: 2025-02-10 01:20:23 -0500 (Mon, 10 Feb 2025) EndedAt: 2025-02-10 01:20:38 -0500 (Mon, 10 Feb 2025) EllapsedTime: 15.2 seconds RetCode: 0 Status: OK PackageFile: tidyFlowCore_1.1.0.tgz PackageFileSize: 917.4 KiB