Package: tidyFlowCore Version: 1.1.0 Command: /home/biocbuild/bbs-3.21-bioc/R/bin/R CMD INSTALL tidyFlowCore StartedAt: 2025-02-09 15:13:44 -0500 (Sun, 09 Feb 2025) EndedAt: 2025-02-09 15:13:54 -0500 (Sun, 09 Feb 2025) EllapsedTime: 9.9 seconds RetCode: 0 Status: OK