Package: tidySingleCellExperiment Version: 1.17.0 Command: /Library/Frameworks/R.framework/Resources/bin/R CMD build --keep-empty-dirs --no-resave-data tidySingleCellExperiment StartedAt: 2025-02-09 17:48:39 -0500 (Sun, 09 Feb 2025) EndedAt: 2025-02-09 17:49:10 -0500 (Sun, 09 Feb 2025) EllapsedTime: 31.4 seconds RetCode: 0 Status: OK PackageFile: tidySingleCellExperiment_1.17.0.tar.gz PackageFileSize: 1.81 MiB