Package: tidySingleCellExperiment Version: 1.17.0 Command: /Library/Frameworks/R.framework/Resources/bin/R CMD build --keep-empty-dirs --no-resave-data tidySingleCellExperiment StartedAt: 2025-02-09 18:43:06 -0500 (Sun, 09 Feb 2025) EndedAt: 2025-02-09 18:44:29 -0500 (Sun, 09 Feb 2025) EllapsedTime: 83.4 seconds RetCode: 0 Status: OK PackageFile: tidySingleCellExperiment_1.17.0.tar.gz PackageFileSize: 1.811 MiB