Package: tidySingleCellExperiment Version: 1.17.0 Command: /home/biocbuild/bbs-3.21-bioc/R/bin/R CMD build --keep-empty-dirs --no-resave-data tidySingleCellExperiment StartedAt: 2025-02-12 19:31:58 -0500 (Wed, 12 Feb 2025) EndedAt: 2025-02-12 19:33:13 -0500 (Wed, 12 Feb 2025) EllapsedTime: 75.1 seconds RetCode: 0 Status: OK PackageFile: tidySingleCellExperiment_1.17.0.tar.gz PackageFileSize: 1.784 MiB