Package: tidySingleCellExperiment Version: 1.17.0 Command: /home/biocbuild/bbs-3.21-bioc/R/bin/R CMD check --install=check:tidySingleCellExperiment.install-out.txt --library=/home/biocbuild/bbs-3.21-bioc/R/site-library --timings tidySingleCellExperiment_1.17.0.tar.gz StartedAt: 2025-02-13 03:21:34 -0500 (Thu, 13 Feb 2025) EndedAt: 2025-02-13 03:26:09 -0500 (Thu, 13 Feb 2025) EllapsedTime: 275.3 seconds RetCode: 0 Status: OK CheckDir: tidySingleCellExperiment.Rcheck Warnings: 0