Package: tidySingleCellExperiment Version: 1.17.0 Command: chmod a+r tidySingleCellExperiment -R && E:\biocbuild\bbs-3.21-bioc\R\bin\R.exe CMD build --keep-empty-dirs --no-resave-data tidySingleCellExperiment StartedAt: 2025-02-09 22:05:03 -0500 (Sun, 09 Feb 2025) EndedAt: 2025-02-09 22:07:03 -0500 (Sun, 09 Feb 2025) EllapsedTime: 119.8 seconds RetCode: 0 Status: OK PackageFile: tidySingleCellExperiment_1.17.0.tar.gz PackageFileSize: 1.232 MiB