Package: tidySingleCellExperiment Version: 1.17.0 Command: E:\biocbuild\bbs-3.21-bioc\R\bin\R.exe CMD check --no-multiarch --install=check:tidySingleCellExperiment.install-out.txt --library=E:\biocbuild\bbs-3.21-bioc\R\library --no-vignettes --timings tidySingleCellExperiment_1.17.0.tar.gz StartedAt: 2025-02-13 06:23:00 -0500 (Thu, 13 Feb 2025) EndedAt: 2025-02-13 06:27:33 -0500 (Thu, 13 Feb 2025) EllapsedTime: 273.7 seconds RetCode: 0 Status: OK CheckDir: tidySingleCellExperiment.Rcheck Warnings: 0