Package: tidySingleCellExperiment Version: 1.17.0 Command: E:\biocbuild\bbs-3.21-bioc\R\bin\R.exe CMD INSTALL tidySingleCellExperiment StartedAt: 2025-02-09 16:18:55 -0500 (Sun, 09 Feb 2025) EndedAt: 2025-02-09 16:23:09 -0500 (Sun, 09 Feb 2025) EllapsedTime: 254.1 seconds RetCode: 0 Status: OK