Package: tidySummarizedExperiment Version: 1.17.0 Command: /Library/Frameworks/R.framework/Resources/bin/R CMD check --install=check:tidySummarizedExperiment.install-out.txt --library=/Library/Frameworks/R.framework/Resources/library --no-vignettes --timings tidySummarizedExperiment_1.17.0.tar.gz StartedAt: 2025-02-09 21:44:42 -0500 (Sun, 09 Feb 2025) EndedAt: 2025-02-09 21:46:20 -0500 (Sun, 09 Feb 2025) EllapsedTime: 98.2 seconds RetCode: 0 Status: OK CheckDir: tidySummarizedExperiment.Rcheck Warnings: 0