Package: tidySummarizedExperiment Version: 1.17.0 Command: /Library/Frameworks/R.framework/Resources/bin/R CMD INSTALL tidySummarizedExperiment StartedAt: 2025-02-12 15:16:14 -0500 (Wed, 12 Feb 2025) EndedAt: 2025-02-12 15:16:24 -0500 (Wed, 12 Feb 2025) EllapsedTime: 10.4 seconds RetCode: 0 Status: OK