Package: tidySummarizedExperiment Version: 1.17.0 Command: /home/biocbuild/bbs-3.21-bioc/R/bin/R CMD INSTALL tidySummarizedExperiment StartedAt: 2025-02-09 15:32:23 -0500 (Sun, 09 Feb 2025) EndedAt: 2025-02-09 15:32:50 -0500 (Sun, 09 Feb 2025) EllapsedTime: 26.6 seconds RetCode: 0 Status: OK