Package: tidyomics Version: 1.3.0 Maintainer: Stefano Mangiola MaintainerEmail: mangiolastefano at gmail.com git_url: https://git.bioconductor.org/packages/tidyomics git_branch: devel git_last_commit: b8e3de3 git_last_commit_date: 2024-10-29 11:27:36 -0500 (Tue, 29 Oct 2024)