Package: tidyomics Version: 1.3.0 Command: rm -rf tidyomics.buildbin-libdir && mkdir tidyomics.buildbin-libdir && /Users/biocbuild/BBS/utils/build-universal.sh tidyomics_1.3.0.tar.gz /Library/Frameworks/R.framework/Resources/bin/R tidyomics.buildbin-libdir StartedAt: 2025-02-03 23:09:05 -0500 (Mon, 03 Feb 2025) EndedAt: 2025-02-03 23:09:20 -0500 (Mon, 03 Feb 2025) EllapsedTime: 15.3 seconds RetCode: 0 Status: OK PackageFile: tidyomics_1.3.0.tgz PackageFileSize: 72.88 KiB