Package: tidyomics Version: 1.3.0 Command: /Library/Frameworks/R.framework/Resources/bin/R CMD check --install=check:tidyomics.install-out.txt --library=/Library/Frameworks/R.framework/Resources/library --no-vignettes --timings tidyomics_1.3.0.tar.gz StartedAt: 2025-02-09 21:44:19 -0500 (Sun, 09 Feb 2025) EndedAt: 2025-02-09 21:45:43 -0500 (Sun, 09 Feb 2025) EllapsedTime: 83.9 seconds RetCode: 0 Status: WARNINGS CheckDir: tidyomics.Rcheck Warnings: 1