Package: tidyomics Version: 1.3.0 Command: /Library/Frameworks/R.framework/Resources/bin/R CMD INSTALL tidyomics StartedAt: 2025-02-03 15:57:04 -0500 (Mon, 03 Feb 2025) EndedAt: 2025-02-03 15:57:18 -0500 (Mon, 03 Feb 2025) EllapsedTime: 13.8 seconds RetCode: 0 Status: OK