Package: tidyomics Version: 1.3.0 Command: /home/biocbuild/R/R/bin/R CMD build --keep-empty-dirs --no-resave-data tidyomics StartedAt: 2025-01-28 02:54:24 -0000 (Tue, 28 Jan 2025) EndedAt: 2025-01-28 02:55:12 -0000 (Tue, 28 Jan 2025) EllapsedTime: 48.0 seconds RetCode: 0 Status: OK PackageFile: tidyomics_1.3.0.tar.gz PackageFileSize: 55.52 KiB