Package: tidyomics Version: 1.3.0 Command: /home/biocbuild/R/R/bin/R CMD INSTALL tidyomics StartedAt: 2025-01-29 20:21:56 -0000 (Wed, 29 Jan 2025) EndedAt: 2025-01-29 20:22:43 -0000 (Wed, 29 Jan 2025) EllapsedTime: 47.1 seconds RetCode: 0 Status: OK