Package: tidyomics Version: 1.3.0 Command: rm -rf tidyomics.buildbin-libdir && mkdir tidyomics.buildbin-libdir && /Users/biocbuild/BBS/utils/build-universal.sh tidyomics_1.3.0.tar.gz /Library/Frameworks/R.framework/Resources/bin/R tidyomics.buildbin-libdir StartedAt: 2025-02-04 01:00:21 -0500 (Tue, 04 Feb 2025) EndedAt: 2025-02-04 01:01:11 -0500 (Tue, 04 Feb 2025) EllapsedTime: 49.7 seconds RetCode: 0 Status: OK PackageFile: tidyomics_1.3.0.tgz PackageFileSize: 72.69 KiB