Package: tidyomics Version: 1.3.0 Command: /Library/Frameworks/R.framework/Resources/bin/R CMD build --keep-empty-dirs --no-resave-data tidyomics StartedAt: 2025-02-03 18:38:12 -0500 (Mon, 03 Feb 2025) EndedAt: 2025-02-03 18:38:49 -0500 (Mon, 03 Feb 2025) EllapsedTime: 37.6 seconds RetCode: 0 Status: OK PackageFile: tidyomics_1.3.0.tar.gz PackageFileSize: 55.44 KiB