Package: tidyomics Version: 1.3.0 Command: /Library/Frameworks/R.framework/Resources/bin/R CMD check --install=check:tidyomics.install-out.txt --library=/Library/Frameworks/R.framework/Resources/library --no-vignettes --timings tidyomics_1.3.0.tar.gz StartedAt: 2025-02-10 00:06:16 -0500 (Mon, 10 Feb 2025) EndedAt: 2025-02-10 00:10:23 -0500 (Mon, 10 Feb 2025) EllapsedTime: 246.7 seconds RetCode: 0 Status: WARNINGS CheckDir: tidyomics.Rcheck Warnings: 1