Package: tidyomics Version: 1.3.0 Command: /home/biocbuild/bbs-3.21-bioc/R/bin/R CMD check --install=check:tidyomics.install-out.txt --library=/home/biocbuild/bbs-3.21-bioc/R/site-library --timings tidyomics_1.3.0.tar.gz StartedAt: 2025-02-10 03:21:12 -0500 (Mon, 10 Feb 2025) EndedAt: 2025-02-10 03:24:51 -0500 (Mon, 10 Feb 2025) EllapsedTime: 219.3 seconds RetCode: 0 Status: WARNINGS CheckDir: tidyomics.Rcheck Warnings: 1